BEGIN:VCALENDAR
VERSION:2.0
PRODID:-//Süddeutscher Tauchclub - ECPv6.15.20//NONSGML v1.0//EN
CALSCALE:GREGORIAN
METHOD:PUBLISH
X-WR-CALNAME:Süddeutscher Tauchclub
X-ORIGINAL-URL:https://www.stc-muenchen.de
X-WR-CALDESC:Veranstaltungen für Süddeutscher Tauchclub
REFRESH-INTERVAL;VALUE=DURATION:PT1H
X-Robots-Tag:noindex
X-PUBLISHED-TTL:PT1H
BEGIN:VTIMEZONE
TZID:Europe/Berlin
BEGIN:DAYLIGHT
TZOFFSETFROM:+0100
TZOFFSETTO:+0200
TZNAME:CEST
DTSTART:20240331T010000
END:DAYLIGHT
BEGIN:STANDARD
TZOFFSETFROM:+0200
TZOFFSETTO:+0100
TZNAME:CET
DTSTART:20241027T010000
END:STANDARD
BEGIN:DAYLIGHT
TZOFFSETFROM:+0100
TZOFFSETTO:+0200
TZNAME:CEST
DTSTART:20250330T010000
END:DAYLIGHT
BEGIN:STANDARD
TZOFFSETFROM:+0200
TZOFFSETTO:+0100
TZNAME:CET
DTSTART:20251026T010000
END:STANDARD
BEGIN:DAYLIGHT
TZOFFSETFROM:+0100
TZOFFSETTO:+0200
TZNAME:CEST
DTSTART:20260329T010000
END:DAYLIGHT
BEGIN:STANDARD
TZOFFSETFROM:+0200
TZOFFSETTO:+0100
TZNAME:CET
DTSTART:20261025T010000
END:STANDARD
END:VTIMEZONE
BEGIN:VEVENT
DTSTART;TZID=Europe/Berlin:20251128T200000
DTEND;TZID=Europe/Berlin:20251128T210000
DTSTAMP:20260423T054136
CREATED:20250101T183940Z
LAST-MODIFIED:20250101T183940Z
UID:7234-1764360000-1764363600@www.stc-muenchen.de
SUMMARY:Freitagstraining
DESCRIPTION:Seepferdchen-Wettbewerbe
URL:https://www.stc-muenchen.de/event/freitagstraining-143/
LOCATION:Olympiabad\, Olympiahalle\, Coubertinplatz 1\, München\, 80809\, Deutschland
CATEGORIES:Training
ATTACH;FMTTYPE=image/jpeg:https://www.stc-muenchen.de/wp-content/uploads/olybad2-1.jpg
ORGANIZER;CN="Armin Baiker":MAILTO:vorstand@stc-muenchen.de
END:VEVENT
BEGIN:VEVENT
DTSTART;TZID=Europe/Berlin:20251128T200000
DTEND;TZID=Europe/Berlin:20251128T210000
DTSTAMP:20260423T054136
CREATED:20250101T184207Z
LAST-MODIFIED:20250101T184207Z
UID:7282-1764360000-1764363600@www.stc-muenchen.de
SUMMARY:Jugendtraining
DESCRIPTION:Seepferdchen-Wettbewerbe
URL:https://www.stc-muenchen.de/event/jugendtraining-143/
LOCATION:Olympiabad\, Olympiahalle\, Coubertinplatz 1\, München\, 80809\, Deutschland
CATEGORIES:Jugend
ATTACH;FMTTYPE=image/jpeg:https://www.stc-muenchen.de/wp-content/uploads/jugendtraining.jpg
ORGANIZER;CN="Katharina Lachenmeir":MAILTO:jugend@stc-muenchen.de
END:VEVENT
BEGIN:VEVENT
DTSTART;TZID=Europe/Berlin:20251128T200000
DTEND;TZID=Europe/Berlin:20251128T210000
DTSTAMP:20260423T054136
CREATED:20250101T184435Z
LAST-MODIFIED:20250101T184435Z
UID:7330-1764360000-1764363600@www.stc-muenchen.de
SUMMARY:UW-Rugby Training
DESCRIPTION:Seepferdchen-Wettbewerbe
URL:https://www.stc-muenchen.de/event/uw-rugby-training-240/
LOCATION:Olympiabad\, Olympiahalle\, Coubertinplatz 1\, München\, 80809\, Deutschland
CATEGORIES:UW-Rugby
ATTACH;FMTTYPE=image/jpeg:https://www.stc-muenchen.de/wp-content/uploads/bg_uw-rugby-1030x579-1.jpg
ORGANIZER;CN="Heike Reichhuber":MAILTO:uwr@stc-muenchen.de
END:VEVENT
END:VCALENDAR