BEGIN:VCALENDAR
VERSION:2.0
PRODID:-//Süddeutscher Tauchclub - ECPv6.15.20//NONSGML v1.0//EN
CALSCALE:GREGORIAN
METHOD:PUBLISH
X-WR-CALNAME:Süddeutscher Tauchclub
X-ORIGINAL-URL:https://www.stc-muenchen.de
X-WR-CALDESC:Veranstaltungen für Süddeutscher Tauchclub
REFRESH-INTERVAL;VALUE=DURATION:PT1H
X-Robots-Tag:noindex
X-PUBLISHED-TTL:PT1H
BEGIN:VTIMEZONE
TZID:Europe/Berlin
BEGIN:DAYLIGHT
TZOFFSETFROM:+0100
TZOFFSETTO:+0200
TZNAME:CEST
DTSTART:20250330T010000
END:DAYLIGHT
BEGIN:STANDARD
TZOFFSETFROM:+0200
TZOFFSETTO:+0100
TZNAME:CET
DTSTART:20251026T010000
END:STANDARD
BEGIN:DAYLIGHT
TZOFFSETFROM:+0100
TZOFFSETTO:+0200
TZNAME:CEST
DTSTART:20260329T010000
END:DAYLIGHT
BEGIN:STANDARD
TZOFFSETFROM:+0200
TZOFFSETTO:+0100
TZNAME:CET
DTSTART:20261025T010000
END:STANDARD
BEGIN:DAYLIGHT
TZOFFSETFROM:+0100
TZOFFSETTO:+0200
TZNAME:CEST
DTSTART:20270328T010000
END:DAYLIGHT
BEGIN:STANDARD
TZOFFSETFROM:+0200
TZOFFSETTO:+0100
TZNAME:CET
DTSTART:20271031T010000
END:STANDARD
END:VTIMEZONE
BEGIN:VEVENT
DTSTART;TZID=Europe/Berlin:20260420T213000
DTEND;TZID=Europe/Berlin:20260420T223000
DTSTAMP:20260420T134645
CREATED:20251226T111427Z
LAST-MODIFIED:20251226T111427Z
UID:8221-1776720600-1776724200@www.stc-muenchen.de
SUMMARY:UW-Rugby Training
DESCRIPTION:Training von Schwimm-\, Atem und Flossentechnik und Kondition\, sowie Durchführung von Spielzügen und Spielen
URL:https://www.stc-muenchen.de/event/uw-rugby-training-15/
LOCATION:Bad Giesing-Harlaching\, Klausener Str. 22\, München\, 81547\, Germany
CATEGORIES:UW-Rugby
ATTACH;FMTTYPE=image/jpeg:https://www.stc-muenchen.de/wp-content/uploads/bg_uw-rugby-1030x579-1.jpg
ORGANIZER;CN="Heike Reichhuber":MAILTO:uwr@stc-muenchen.de
END:VEVENT
BEGIN:VEVENT
DTSTART;TZID=Europe/Berlin:20260424T200000
DTEND;TZID=Europe/Berlin:20260424T210000
DTSTAMP:20260420T134645
CREATED:20251226T105718Z
LAST-MODIFIED:20251226T105718Z
UID:8170-1777060800-1777064400@www.stc-muenchen.de
SUMMARY:Freitagstraining
DESCRIPTION:Training von Schwimm-\, Atem und Flossentechnik und Kondition sowie Durchführung von Sicherheits- und Rettungsübungen und kurzweiligen Spielen im Wechsel
URL:https://www.stc-muenchen.de/event/freitagstraining-17/
LOCATION:Olympiabad\, Olympiahalle\, Coubertinplatz 1\, München\, 80809\, Deutschland
CATEGORIES:Training
ATTACH;FMTTYPE=image/jpeg:https://www.stc-muenchen.de/wp-content/uploads/olybad2-1.jpg
ORGANIZER;CN="Armin Baiker":MAILTO:vorstand@stc-muenchen.de
END:VEVENT
BEGIN:VEVENT
DTSTART;TZID=Europe/Berlin:20260427T213000
DTEND;TZID=Europe/Berlin:20260427T223000
DTSTAMP:20260420T134645
CREATED:20251226T111432Z
LAST-MODIFIED:20251226T111432Z
UID:8222-1777325400-1777329000@www.stc-muenchen.de
SUMMARY:UW-Rugby Training
DESCRIPTION:Training von Schwimm-\, Atem und Flossentechnik und Kondition\, sowie Durchführung von Spielzügen und Spielen
URL:https://www.stc-muenchen.de/event/uw-rugby-training-16/
LOCATION:Bad Giesing-Harlaching\, Klausener Str. 22\, München\, 81547\, Germany
CATEGORIES:UW-Rugby
ATTACH;FMTTYPE=image/jpeg:https://www.stc-muenchen.de/wp-content/uploads/bg_uw-rugby-1030x579-1.jpg
ORGANIZER;CN="Heike Reichhuber":MAILTO:uwr@stc-muenchen.de
END:VEVENT
END:VCALENDAR