BEGIN:VCALENDAR
VERSION:2.0
PRODID:-//Süddeutscher Tauchclub - ECPv6.15.20//NONSGML v1.0//EN
CALSCALE:GREGORIAN
METHOD:PUBLISH
X-WR-CALNAME:Süddeutscher Tauchclub
X-ORIGINAL-URL:https://www.stc-muenchen.de
X-WR-CALDESC:Veranstaltungen für Süddeutscher Tauchclub
REFRESH-INTERVAL;VALUE=DURATION:PT1H
X-Robots-Tag:noindex
X-PUBLISHED-TTL:PT1H
BEGIN:VTIMEZONE
TZID:Europe/Berlin
BEGIN:DAYLIGHT
TZOFFSETFROM:+0100
TZOFFSETTO:+0200
TZNAME:CEST
DTSTART:20250330T010000
END:DAYLIGHT
BEGIN:STANDARD
TZOFFSETFROM:+0200
TZOFFSETTO:+0100
TZNAME:CET
DTSTART:20251026T010000
END:STANDARD
BEGIN:DAYLIGHT
TZOFFSETFROM:+0100
TZOFFSETTO:+0200
TZNAME:CEST
DTSTART:20260329T010000
END:DAYLIGHT
BEGIN:STANDARD
TZOFFSETFROM:+0200
TZOFFSETTO:+0100
TZNAME:CET
DTSTART:20261025T010000
END:STANDARD
BEGIN:DAYLIGHT
TZOFFSETFROM:+0100
TZOFFSETTO:+0200
TZNAME:CEST
DTSTART:20270328T010000
END:DAYLIGHT
BEGIN:STANDARD
TZOFFSETFROM:+0200
TZOFFSETTO:+0100
TZNAME:CET
DTSTART:20271031T010000
END:STANDARD
END:VTIMEZONE
BEGIN:VEVENT
DTSTART;TZID=Europe/Berlin:20260601T213000
DTEND;TZID=Europe/Berlin:20260601T223000
DTSTAMP:20260422T181132
CREATED:20251226T111516Z
LAST-MODIFIED:20251226T111516Z
UID:8229-1780349400-1780353000@www.stc-muenchen.de
SUMMARY:UW-Rugby Training
DESCRIPTION:Training von Schwimm-\, Atem und Flossentechnik und Kondition\, sowie Durchführung von Spielzügen und Spielen
URL:https://www.stc-muenchen.de/event/uw-rugby-training-21/
LOCATION:Bad Giesing-Harlaching\, Klausener Str. 22\, München\, 81547\, Germany
CATEGORIES:UW-Rugby
ATTACH;FMTTYPE=image/jpeg:https://www.stc-muenchen.de/wp-content/uploads/bg_uw-rugby-1030x579-1.jpg
ORGANIZER;CN="Heike Reichhuber":MAILTO:uwr@stc-muenchen.de
END:VEVENT
BEGIN:VEVENT
DTSTART;TZID=Europe/Berlin:20260605T200000
DTEND;TZID=Europe/Berlin:20260605T210000
DTSTAMP:20260422T181132
CREATED:20251226T105734Z
LAST-MODIFIED:20251226T105734Z
UID:8176-1780689600-1780693200@www.stc-muenchen.de
SUMMARY:Freitagstraining
DESCRIPTION:Training von Schwimm-\, Atem und Flossentechnik und Kondition sowie Durchführung von Sicherheits- und Rettungsübungen und kurzweiligen Spielen im Wechsel
URL:https://www.stc-muenchen.de/event/freitagstraining-23/
LOCATION:Olympiabad\, Olympiahalle\, Coubertinplatz 1\, München\, 80809\, Deutschland
CATEGORIES:Training
ATTACH;FMTTYPE=image/jpeg:https://www.stc-muenchen.de/wp-content/uploads/olybad2-1.jpg
ORGANIZER;CN="Armin Baiker":MAILTO:vorstand@stc-muenchen.de
END:VEVENT
BEGIN:VEVENT
DTSTART;TZID=Europe/Berlin:20260608T213000
DTEND;TZID=Europe/Berlin:20260608T223000
DTSTAMP:20260422T181132
CREATED:20251226T111518Z
LAST-MODIFIED:20251226T111518Z
UID:8230-1780954200-1780957800@www.stc-muenchen.de
SUMMARY:UW-Rugby Training
DESCRIPTION:Training von Schwimm-\, Atem und Flossentechnik und Kondition\, sowie Durchführung von Spielzügen und Spielen
URL:https://www.stc-muenchen.de/event/uw-rugby-training-22/
LOCATION:Bad Giesing-Harlaching\, Klausener Str. 22\, München\, 81547\, Germany
CATEGORIES:UW-Rugby
ATTACH;FMTTYPE=image/jpeg:https://www.stc-muenchen.de/wp-content/uploads/bg_uw-rugby-1030x579-1.jpg
ORGANIZER;CN="Heike Reichhuber":MAILTO:uwr@stc-muenchen.de
END:VEVENT
BEGIN:VEVENT
DTSTART;TZID=Europe/Berlin:20260612T200000
DTEND;TZID=Europe/Berlin:20260612T210000
DTSTAMP:20260422T181132
CREATED:20251226T105736Z
LAST-MODIFIED:20251226T105736Z
UID:8177-1781294400-1781298000@www.stc-muenchen.de
SUMMARY:Freitagstraining
DESCRIPTION:Training von Schwimm-\, Atem und Flossentechnik und Kondition sowie Durchführung von Sicherheits- und Rettungsübungen und kurzweiligen Spielen im Wechsel
URL:https://www.stc-muenchen.de/event/freitagstraining-24/
LOCATION:Olympiabad\, Olympiahalle\, Coubertinplatz 1\, München\, 80809\, Deutschland
CATEGORIES:Training
ATTACH;FMTTYPE=image/jpeg:https://www.stc-muenchen.de/wp-content/uploads/olybad2-1.jpg
ORGANIZER;CN="Armin Baiker":MAILTO:vorstand@stc-muenchen.de
END:VEVENT
BEGIN:VEVENT
DTSTART;TZID=Europe/Berlin:20260615T213000
DTEND;TZID=Europe/Berlin:20260615T223000
DTSTAMP:20260422T181132
CREATED:20251226T111519Z
LAST-MODIFIED:20251226T111519Z
UID:8231-1781559000-1781562600@www.stc-muenchen.de
SUMMARY:UW-Rugby Training
DESCRIPTION:Training von Schwimm-\, Atem und Flossentechnik und Kondition\, sowie Durchführung von Spielzügen und Spielen
URL:https://www.stc-muenchen.de/event/uw-rugby-training-23/
LOCATION:Bad Giesing-Harlaching\, Klausener Str. 22\, München\, 81547\, Germany
CATEGORIES:UW-Rugby
ATTACH;FMTTYPE=image/jpeg:https://www.stc-muenchen.de/wp-content/uploads/bg_uw-rugby-1030x579-1.jpg
ORGANIZER;CN="Heike Reichhuber":MAILTO:uwr@stc-muenchen.de
END:VEVENT
BEGIN:VEVENT
DTSTART;TZID=Europe/Berlin:20260619T200000
DTEND;TZID=Europe/Berlin:20260619T210000
DTSTAMP:20260422T181132
CREATED:20251226T105738Z
LAST-MODIFIED:20251226T105738Z
UID:8178-1781899200-1781902800@www.stc-muenchen.de
SUMMARY:Freitagstraining
DESCRIPTION:Training von Schwimm-\, Atem und Flossentechnik und Kondition sowie Durchführung von Sicherheits- und Rettungsübungen und kurzweiligen Spielen im Wechsel
URL:https://www.stc-muenchen.de/event/freitagstraining-25/
LOCATION:Olympiabad\, Olympiahalle\, Coubertinplatz 1\, München\, 80809\, Deutschland
CATEGORIES:Training
ATTACH;FMTTYPE=image/jpeg:https://www.stc-muenchen.de/wp-content/uploads/olybad2-1.jpg
ORGANIZER;CN="Armin Baiker":MAILTO:vorstand@stc-muenchen.de
END:VEVENT
BEGIN:VEVENT
DTSTART;TZID=Europe/Berlin:20260622T213000
DTEND;TZID=Europe/Berlin:20260622T223000
DTSTAMP:20260422T181132
CREATED:20251226T111521Z
LAST-MODIFIED:20251226T111521Z
UID:8232-1782163800-1782167400@www.stc-muenchen.de
SUMMARY:UW-Rugby Training
DESCRIPTION:Training von Schwimm-\, Atem und Flossentechnik und Kondition\, sowie Durchführung von Spielzügen und Spielen
URL:https://www.stc-muenchen.de/event/uw-rugby-training-24/
LOCATION:Bad Giesing-Harlaching\, Klausener Str. 22\, München\, 81547\, Germany
CATEGORIES:UW-Rugby
ATTACH;FMTTYPE=image/jpeg:https://www.stc-muenchen.de/wp-content/uploads/bg_uw-rugby-1030x579-1.jpg
ORGANIZER;CN="Heike Reichhuber":MAILTO:uwr@stc-muenchen.de
END:VEVENT
BEGIN:VEVENT
DTSTART;TZID=Europe/Berlin:20260626T200000
DTEND;TZID=Europe/Berlin:20260626T210000
DTSTAMP:20260422T181132
CREATED:20251226T105740Z
LAST-MODIFIED:20251226T105740Z
UID:8179-1782504000-1782507600@www.stc-muenchen.de
SUMMARY:Freitagstraining
DESCRIPTION:Training von Schwimm-\, Atem und Flossentechnik und Kondition sowie Durchführung von Sicherheits- und Rettungsübungen und kurzweiligen Spielen im Wechsel
URL:https://www.stc-muenchen.de/event/freitagstraining-26/
LOCATION:Olympiabad\, Olympiahalle\, Coubertinplatz 1\, München\, 80809\, Deutschland
CATEGORIES:Training
ATTACH;FMTTYPE=image/jpeg:https://www.stc-muenchen.de/wp-content/uploads/olybad2-1.jpg
ORGANIZER;CN="Armin Baiker":MAILTO:vorstand@stc-muenchen.de
END:VEVENT
BEGIN:VEVENT
DTSTART;TZID=Europe/Berlin:20260629T213000
DTEND;TZID=Europe/Berlin:20260629T223000
DTSTAMP:20260422T181132
CREATED:20251226T111522Z
LAST-MODIFIED:20251226T111522Z
UID:8233-1782768600-1782772200@www.stc-muenchen.de
SUMMARY:UW-Rugby Training
DESCRIPTION:Training von Schwimm-\, Atem und Flossentechnik und Kondition\, sowie Durchführung von Spielzügen und Spielen
URL:https://www.stc-muenchen.de/event/uw-rugby-training-25/
LOCATION:Bad Giesing-Harlaching\, Klausener Str. 22\, München\, 81547\, Germany
CATEGORIES:UW-Rugby
ATTACH;FMTTYPE=image/jpeg:https://www.stc-muenchen.de/wp-content/uploads/bg_uw-rugby-1030x579-1.jpg
ORGANIZER;CN="Heike Reichhuber":MAILTO:uwr@stc-muenchen.de
END:VEVENT
BEGIN:VEVENT
DTSTART;TZID=Europe/Berlin:20260703T200000
DTEND;TZID=Europe/Berlin:20260703T210000
DTSTAMP:20260422T181132
CREATED:20251226T105748Z
LAST-MODIFIED:20251226T105748Z
UID:8180-1783108800-1783112400@www.stc-muenchen.de
SUMMARY:Freitagstraining
DESCRIPTION:Training von Schwimm-\, Atem und Flossentechnik und Kondition sowie Durchführung von Sicherheits- und Rettungsübungen und kurzweiligen Spielen im Wechsel
URL:https://www.stc-muenchen.de/event/freitagstraining-27/
LOCATION:Olympiabad\, Olympiahalle\, Coubertinplatz 1\, München\, 80809\, Deutschland
CATEGORIES:Training
ATTACH;FMTTYPE=image/jpeg:https://www.stc-muenchen.de/wp-content/uploads/olybad2-1.jpg
ORGANIZER;CN="Armin Baiker":MAILTO:vorstand@stc-muenchen.de
END:VEVENT
BEGIN:VEVENT
DTSTART;TZID=Europe/Berlin:20260706T213000
DTEND;TZID=Europe/Berlin:20260706T223000
DTSTAMP:20260422T181132
CREATED:20251226T111548Z
LAST-MODIFIED:20251226T111556Z
UID:8235-1783373400-1783377000@www.stc-muenchen.de
SUMMARY:UW-Rugby Training
DESCRIPTION:Training von Schwimm-\, Atem und Flossentechnik und Kondition\, sowie Durchführung von Spielzügen und Spielen
URL:https://www.stc-muenchen.de/event/uw-rugby-training-26/
LOCATION:Bad Giesing-Harlaching\, Klausener Str. 22\, München\, 81547\, Germany
CATEGORIES:UW-Rugby
ATTACH;FMTTYPE=image/jpeg:https://www.stc-muenchen.de/wp-content/uploads/bg_uw-rugby-1030x579-1.jpg
ORGANIZER;CN="Heike Reichhuber":MAILTO:uwr@stc-muenchen.de
END:VEVENT
BEGIN:VEVENT
DTSTART;TZID=Europe/Berlin:20260710T200000
DTEND;TZID=Europe/Berlin:20260710T210000
DTSTAMP:20260422T181132
CREATED:20251226T105749Z
LAST-MODIFIED:20251226T105749Z
UID:8181-1783713600-1783717200@www.stc-muenchen.de
SUMMARY:Freitagstraining
DESCRIPTION:Training von Schwimm-\, Atem und Flossentechnik und Kondition sowie Durchführung von Sicherheits- und Rettungsübungen und kurzweiligen Spielen im Wechsel
URL:https://www.stc-muenchen.de/event/freitagstraining-28/
LOCATION:Olympiabad\, Olympiahalle\, Coubertinplatz 1\, München\, 80809\, Deutschland
CATEGORIES:Training
ATTACH;FMTTYPE=image/jpeg:https://www.stc-muenchen.de/wp-content/uploads/olybad2-1.jpg
ORGANIZER;CN="Armin Baiker":MAILTO:vorstand@stc-muenchen.de
END:VEVENT
BEGIN:VEVENT
DTSTART;TZID=Europe/Berlin:20260713T213000
DTEND;TZID=Europe/Berlin:20260713T223000
DTSTAMP:20260422T181132
CREATED:20251226T111550Z
LAST-MODIFIED:20251226T111558Z
UID:8236-1783978200-1783981800@www.stc-muenchen.de
SUMMARY:UW-Rugby Training
DESCRIPTION:Training von Schwimm-\, Atem und Flossentechnik und Kondition\, sowie Durchführung von Spielzügen und Spielen
URL:https://www.stc-muenchen.de/event/uw-rugby-training-27/
LOCATION:Bad Giesing-Harlaching\, Klausener Str. 22\, München\, 81547\, Germany
CATEGORIES:UW-Rugby
ATTACH;FMTTYPE=image/jpeg:https://www.stc-muenchen.de/wp-content/uploads/bg_uw-rugby-1030x579-1.jpg
ORGANIZER;CN="Heike Reichhuber":MAILTO:uwr@stc-muenchen.de
END:VEVENT
BEGIN:VEVENT
DTSTART;TZID=Europe/Berlin:20260717T200000
DTEND;TZID=Europe/Berlin:20260717T210000
DTSTAMP:20260422T181132
CREATED:20251226T105751Z
LAST-MODIFIED:20251226T105751Z
UID:8182-1784318400-1784322000@www.stc-muenchen.de
SUMMARY:Freitagstraining
DESCRIPTION:Training von Schwimm-\, Atem und Flossentechnik und Kondition sowie Durchführung von Sicherheits- und Rettungsübungen und kurzweiligen Spielen im Wechsel
URL:https://www.stc-muenchen.de/event/freitagstraining-29/
LOCATION:Olympiabad\, Olympiahalle\, Coubertinplatz 1\, München\, 80809\, Deutschland
CATEGORIES:Training
ATTACH;FMTTYPE=image/jpeg:https://www.stc-muenchen.de/wp-content/uploads/olybad2-1.jpg
ORGANIZER;CN="Armin Baiker":MAILTO:vorstand@stc-muenchen.de
END:VEVENT
BEGIN:VEVENT
DTSTART;TZID=Europe/Berlin:20260720T213000
DTEND;TZID=Europe/Berlin:20260720T223000
DTSTAMP:20260422T181132
CREATED:20251226T111551Z
LAST-MODIFIED:20251226T111559Z
UID:8237-1784583000-1784586600@www.stc-muenchen.de
SUMMARY:UW-Rugby Training
DESCRIPTION:Training von Schwimm-\, Atem und Flossentechnik und Kondition\, sowie Durchführung von Spielzügen und Spielen
URL:https://www.stc-muenchen.de/event/uw-rugby-training-28/
LOCATION:Bad Giesing-Harlaching\, Klausener Str. 22\, München\, 81547\, Germany
CATEGORIES:UW-Rugby
ATTACH;FMTTYPE=image/jpeg:https://www.stc-muenchen.de/wp-content/uploads/bg_uw-rugby-1030x579-1.jpg
ORGANIZER;CN="Heike Reichhuber":MAILTO:uwr@stc-muenchen.de
END:VEVENT
BEGIN:VEVENT
DTSTART;TZID=Europe/Berlin:20260724T200000
DTEND;TZID=Europe/Berlin:20260724T210000
DTSTAMP:20260422T181132
CREATED:20251226T105752Z
LAST-MODIFIED:20251226T105752Z
UID:8183-1784923200-1784926800@www.stc-muenchen.de
SUMMARY:Freitagstraining
DESCRIPTION:Training von Schwimm-\, Atem und Flossentechnik und Kondition sowie Durchführung von Sicherheits- und Rettungsübungen und kurzweiligen Spielen im Wechsel
URL:https://www.stc-muenchen.de/event/freitagstraining-30/
LOCATION:Olympiabad\, Olympiahalle\, Coubertinplatz 1\, München\, 80809\, Deutschland
CATEGORIES:Training
ATTACH;FMTTYPE=image/jpeg:https://www.stc-muenchen.de/wp-content/uploads/olybad2-1.jpg
ORGANIZER;CN="Armin Baiker":MAILTO:vorstand@stc-muenchen.de
END:VEVENT
BEGIN:VEVENT
DTSTART;TZID=Europe/Berlin:20260727T213000
DTEND;TZID=Europe/Berlin:20260727T223000
DTSTAMP:20260422T181132
CREATED:20251226T111552Z
LAST-MODIFIED:20251226T111600Z
UID:8238-1785187800-1785191400@www.stc-muenchen.de
SUMMARY:UW-Rugby Training
DESCRIPTION:Training von Schwimm-\, Atem und Flossentechnik und Kondition\, sowie Durchführung von Spielzügen und Spielen
URL:https://www.stc-muenchen.de/event/uw-rugby-training-29/
LOCATION:Bad Giesing-Harlaching\, Klausener Str. 22\, München\, 81547\, Germany
CATEGORIES:UW-Rugby
ATTACH;FMTTYPE=image/jpeg:https://www.stc-muenchen.de/wp-content/uploads/bg_uw-rugby-1030x579-1.jpg
ORGANIZER;CN="Heike Reichhuber":MAILTO:uwr@stc-muenchen.de
END:VEVENT
BEGIN:VEVENT
DTSTART;TZID=Europe/Berlin:20260731T200000
DTEND;TZID=Europe/Berlin:20260731T210000
DTSTAMP:20260422T181132
CREATED:20251226T105753Z
LAST-MODIFIED:20251226T105753Z
UID:8184-1785528000-1785531600@www.stc-muenchen.de
SUMMARY:Freitagstraining
DESCRIPTION:Training von Schwimm-\, Atem und Flossentechnik und Kondition sowie Durchführung von Sicherheits- und Rettungsübungen und kurzweiligen Spielen im Wechsel
URL:https://www.stc-muenchen.de/event/freitagstraining-31/
LOCATION:Olympiabad\, Olympiahalle\, Coubertinplatz 1\, München\, 80809\, Deutschland
CATEGORIES:Training
ATTACH;FMTTYPE=image/jpeg:https://www.stc-muenchen.de/wp-content/uploads/olybad2-1.jpg
ORGANIZER;CN="Armin Baiker":MAILTO:vorstand@stc-muenchen.de
END:VEVENT
BEGIN:VEVENT
DTSTART;TZID=Europe/Berlin:20260803T213000
DTEND;TZID=Europe/Berlin:20260803T223000
DTSTAMP:20260422T181132
CREATED:20251226T111554Z
LAST-MODIFIED:20251226T111601Z
UID:8239-1785792600-1785796200@www.stc-muenchen.de
SUMMARY:UW-Rugby Training
DESCRIPTION:Training von Schwimm-\, Atem und Flossentechnik und Kondition\, sowie Durchführung von Spielzügen und Spielen
URL:https://www.stc-muenchen.de/event/uw-rugby-training-30/
LOCATION:Bad Giesing-Harlaching\, Klausener Str. 22\, München\, 81547\, Germany
CATEGORIES:UW-Rugby
ATTACH;FMTTYPE=image/jpeg:https://www.stc-muenchen.de/wp-content/uploads/bg_uw-rugby-1030x579-1.jpg
ORGANIZER;CN="Heike Reichhuber":MAILTO:uwr@stc-muenchen.de
END:VEVENT
BEGIN:VEVENT
DTSTART;TZID=Europe/Berlin:20260807T200000
DTEND;TZID=Europe/Berlin:20260807T210000
DTSTAMP:20260422T181132
CREATED:20251226T105851Z
LAST-MODIFIED:20251226T105851Z
UID:8185-1786132800-1786136400@www.stc-muenchen.de
SUMMARY:Freitagstraining
DESCRIPTION:Training von Schwimm-\, Atem und Flossentechnik und Kondition sowie Durchführung von Sicherheits- und Rettungsübungen und kurzweiligen Spielen im Wechsel
URL:https://www.stc-muenchen.de/event/freitagstraining-32/
LOCATION:Olympiabad\, Olympiahalle\, Coubertinplatz 1\, München\, 80809\, Deutschland
CATEGORIES:Training
ATTACH;FMTTYPE=image/jpeg:https://www.stc-muenchen.de/wp-content/uploads/olybad2-1.jpg
ORGANIZER;CN="Armin Baiker":MAILTO:vorstand@stc-muenchen.de
END:VEVENT
BEGIN:VEVENT
DTSTART;TZID=Europe/Berlin:20260810T213000
DTEND;TZID=Europe/Berlin:20260810T223000
DTSTAMP:20260422T181132
CREATED:20251226T111611Z
LAST-MODIFIED:20251226T111611Z
UID:8245-1786397400-1786401000@www.stc-muenchen.de
SUMMARY:UW-Rugby Training
DESCRIPTION:Training von Schwimm-\, Atem und Flossentechnik und Kondition\, sowie Durchführung von Spielzügen und Spielen
URL:https://www.stc-muenchen.de/event/uw-rugby-training-31/
LOCATION:Bad Giesing-Harlaching\, Klausener Str. 22\, München\, 81547\, Germany
CATEGORIES:UW-Rugby
ATTACH;FMTTYPE=image/jpeg:https://www.stc-muenchen.de/wp-content/uploads/bg_uw-rugby-1030x579-1.jpg
ORGANIZER;CN="Heike Reichhuber":MAILTO:uwr@stc-muenchen.de
END:VEVENT
BEGIN:VEVENT
DTSTART;TZID=Europe/Berlin:20260814T200000
DTEND;TZID=Europe/Berlin:20260814T210000
DTSTAMP:20260422T181132
CREATED:20251226T105853Z
LAST-MODIFIED:20251226T105853Z
UID:8186-1786737600-1786741200@www.stc-muenchen.de
SUMMARY:Freitagstraining
DESCRIPTION:Training von Schwimm-\, Atem und Flossentechnik und Kondition sowie Durchführung von Sicherheits- und Rettungsübungen und kurzweiligen Spielen im Wechsel
URL:https://www.stc-muenchen.de/event/freitagstraining-33/
LOCATION:Olympiabad\, Olympiahalle\, Coubertinplatz 1\, München\, 80809\, Deutschland
CATEGORIES:Training
ATTACH;FMTTYPE=image/jpeg:https://www.stc-muenchen.de/wp-content/uploads/olybad2-1.jpg
ORGANIZER;CN="Armin Baiker":MAILTO:vorstand@stc-muenchen.de
END:VEVENT
BEGIN:VEVENT
DTSTART;TZID=Europe/Berlin:20260817T213000
DTEND;TZID=Europe/Berlin:20260817T223000
DTSTAMP:20260422T181132
CREATED:20251226T111612Z
LAST-MODIFIED:20251226T111612Z
UID:8246-1787002200-1787005800@www.stc-muenchen.de
SUMMARY:UW-Rugby Training
DESCRIPTION:Training von Schwimm-\, Atem und Flossentechnik und Kondition\, sowie Durchführung von Spielzügen und Spielen
URL:https://www.stc-muenchen.de/event/uw-rugby-training-32/
LOCATION:Bad Giesing-Harlaching\, Klausener Str. 22\, München\, 81547\, Germany
CATEGORIES:UW-Rugby
ATTACH;FMTTYPE=image/jpeg:https://www.stc-muenchen.de/wp-content/uploads/bg_uw-rugby-1030x579-1.jpg
ORGANIZER;CN="Heike Reichhuber":MAILTO:uwr@stc-muenchen.de
END:VEVENT
BEGIN:VEVENT
DTSTART;TZID=Europe/Berlin:20260821T200000
DTEND;TZID=Europe/Berlin:20260821T210000
DTSTAMP:20260422T181132
CREATED:20251226T105855Z
LAST-MODIFIED:20251226T105855Z
UID:8187-1787342400-1787346000@www.stc-muenchen.de
SUMMARY:Freitagstraining
DESCRIPTION:Training von Schwimm-\, Atem und Flossentechnik und Kondition sowie Durchführung von Sicherheits- und Rettungsübungen und kurzweiligen Spielen im Wechsel
URL:https://www.stc-muenchen.de/event/freitagstraining-34/
LOCATION:Olympiabad\, Olympiahalle\, Coubertinplatz 1\, München\, 80809\, Deutschland
CATEGORIES:Training
ATTACH;FMTTYPE=image/jpeg:https://www.stc-muenchen.de/wp-content/uploads/olybad2-1.jpg
ORGANIZER;CN="Armin Baiker":MAILTO:vorstand@stc-muenchen.de
END:VEVENT
BEGIN:VEVENT
DTSTART;TZID=Europe/Berlin:20260824T213000
DTEND;TZID=Europe/Berlin:20260824T223000
DTSTAMP:20260422T181132
CREATED:20251226T111614Z
LAST-MODIFIED:20251226T111614Z
UID:8247-1787607000-1787610600@www.stc-muenchen.de
SUMMARY:UW-Rugby Training
DESCRIPTION:Training von Schwimm-\, Atem und Flossentechnik und Kondition\, sowie Durchführung von Spielzügen und Spielen
URL:https://www.stc-muenchen.de/event/uw-rugby-training-33/
LOCATION:Bad Giesing-Harlaching\, Klausener Str. 22\, München\, 81547\, Germany
CATEGORIES:UW-Rugby
ATTACH;FMTTYPE=image/jpeg:https://www.stc-muenchen.de/wp-content/uploads/bg_uw-rugby-1030x579-1.jpg
ORGANIZER;CN="Heike Reichhuber":MAILTO:uwr@stc-muenchen.de
END:VEVENT
BEGIN:VEVENT
DTSTART;TZID=Europe/Berlin:20260828T200000
DTEND;TZID=Europe/Berlin:20260828T210000
DTSTAMP:20260422T181132
CREATED:20251226T105857Z
LAST-MODIFIED:20251226T105857Z
UID:8188-1787947200-1787950800@www.stc-muenchen.de
SUMMARY:Freitagstraining
DESCRIPTION:Training von Schwimm-\, Atem und Flossentechnik und Kondition sowie Durchführung von Sicherheits- und Rettungsübungen und kurzweiligen Spielen im Wechsel
URL:https://www.stc-muenchen.de/event/freitagstraining-35/
LOCATION:Olympiabad\, Olympiahalle\, Coubertinplatz 1\, München\, 80809\, Deutschland
CATEGORIES:Training
ATTACH;FMTTYPE=image/jpeg:https://www.stc-muenchen.de/wp-content/uploads/olybad2-1.jpg
ORGANIZER;CN="Armin Baiker":MAILTO:vorstand@stc-muenchen.de
END:VEVENT
BEGIN:VEVENT
DTSTART;TZID=Europe/Berlin:20260831T213000
DTEND;TZID=Europe/Berlin:20260831T223000
DTSTAMP:20260422T181132
CREATED:20251226T111616Z
LAST-MODIFIED:20251226T111616Z
UID:8248-1788211800-1788215400@www.stc-muenchen.de
SUMMARY:UW-Rugby Training
DESCRIPTION:Training von Schwimm-\, Atem und Flossentechnik und Kondition\, sowie Durchführung von Spielzügen und Spielen
URL:https://www.stc-muenchen.de/event/uw-rugby-training-34/
LOCATION:Bad Giesing-Harlaching\, Klausener Str. 22\, München\, 81547\, Germany
CATEGORIES:UW-Rugby
ATTACH;FMTTYPE=image/jpeg:https://www.stc-muenchen.de/wp-content/uploads/bg_uw-rugby-1030x579-1.jpg
ORGANIZER;CN="Heike Reichhuber":MAILTO:uwr@stc-muenchen.de
END:VEVENT
BEGIN:VEVENT
DTSTART;TZID=Europe/Berlin:20260904T200000
DTEND;TZID=Europe/Berlin:20260904T210000
DTSTAMP:20260422T181132
CREATED:20251226T105859Z
LAST-MODIFIED:20251226T105859Z
UID:8189-1788552000-1788555600@www.stc-muenchen.de
SUMMARY:Freitagstraining
DESCRIPTION:Training von Schwimm-\, Atem und Flossentechnik und Kondition sowie Durchführung von Sicherheits- und Rettungsübungen und kurzweiligen Spielen im Wechsel
URL:https://www.stc-muenchen.de/event/freitagstraining-36/
LOCATION:Olympiabad\, Olympiahalle\, Coubertinplatz 1\, München\, 80809\, Deutschland
CATEGORIES:Training
ATTACH;FMTTYPE=image/jpeg:https://www.stc-muenchen.de/wp-content/uploads/olybad2-1.jpg
ORGANIZER;CN="Armin Baiker":MAILTO:vorstand@stc-muenchen.de
END:VEVENT
BEGIN:VEVENT
DTSTART;TZID=Europe/Berlin:20260907T213000
DTEND;TZID=Europe/Berlin:20260907T223000
DTSTAMP:20260422T181132
CREATED:20251226T111618Z
LAST-MODIFIED:20251226T111618Z
UID:8249-1788816600-1788820200@www.stc-muenchen.de
SUMMARY:UW-Rugby Training
DESCRIPTION:Training von Schwimm-\, Atem und Flossentechnik und Kondition\, sowie Durchführung von Spielzügen und Spielen
URL:https://www.stc-muenchen.de/event/uw-rugby-training-35/
LOCATION:Bad Giesing-Harlaching\, Klausener Str. 22\, München\, 81547\, Germany
CATEGORIES:UW-Rugby
ATTACH;FMTTYPE=image/jpeg:https://www.stc-muenchen.de/wp-content/uploads/bg_uw-rugby-1030x579-1.jpg
ORGANIZER;CN="Heike Reichhuber":MAILTO:uwr@stc-muenchen.de
END:VEVENT
BEGIN:VEVENT
DTSTART;TZID=Europe/Berlin:20260911T200000
DTEND;TZID=Europe/Berlin:20260911T210000
DTSTAMP:20260422T181132
CREATED:20251226T105909Z
LAST-MODIFIED:20251226T105909Z
UID:8190-1789156800-1789160400@www.stc-muenchen.de
SUMMARY:Freitagstraining
DESCRIPTION:Training von Schwimm-\, Atem und Flossentechnik und Kondition sowie Durchführung von Sicherheits- und Rettungsübungen und kurzweiligen Spielen im Wechsel
URL:https://www.stc-muenchen.de/event/freitagstraining-37/
LOCATION:Olympiabad\, Olympiahalle\, Coubertinplatz 1\, München\, 80809\, Deutschland
CATEGORIES:Training
ATTACH;FMTTYPE=image/jpeg:https://www.stc-muenchen.de/wp-content/uploads/olybad2-1.jpg
ORGANIZER;CN="Armin Baiker":MAILTO:vorstand@stc-muenchen.de
END:VEVENT
END:VCALENDAR