BEGIN:VCALENDAR
VERSION:2.0
PRODID:-//Süddeutscher Tauchclub - ECPv6.15.20//NONSGML v1.0//EN
CALSCALE:GREGORIAN
METHOD:PUBLISH
X-ORIGINAL-URL:https://www.stc-muenchen.de
X-WR-CALDESC:Veranstaltungen für Süddeutscher Tauchclub
REFRESH-INTERVAL;VALUE=DURATION:PT1H
X-Robots-Tag:noindex
X-PUBLISHED-TTL:PT1H
BEGIN:VTIMEZONE
TZID:Europe/Berlin
BEGIN:DAYLIGHT
TZOFFSETFROM:+0100
TZOFFSETTO:+0200
TZNAME:CEST
DTSTART:20250330T010000
END:DAYLIGHT
BEGIN:STANDARD
TZOFFSETFROM:+0200
TZOFFSETTO:+0100
TZNAME:CET
DTSTART:20251026T010000
END:STANDARD
BEGIN:DAYLIGHT
TZOFFSETFROM:+0100
TZOFFSETTO:+0200
TZNAME:CEST
DTSTART:20260329T010000
END:DAYLIGHT
BEGIN:STANDARD
TZOFFSETFROM:+0200
TZOFFSETTO:+0100
TZNAME:CET
DTSTART:20261025T010000
END:STANDARD
BEGIN:DAYLIGHT
TZOFFSETFROM:+0100
TZOFFSETTO:+0200
TZNAME:CEST
DTSTART:20270328T010000
END:DAYLIGHT
BEGIN:STANDARD
TZOFFSETFROM:+0200
TZOFFSETTO:+0100
TZNAME:CET
DTSTART:20271031T010000
END:STANDARD
END:VTIMEZONE
BEGIN:VEVENT
DTSTART;TZID=Europe/Berlin:20261005T213000
DTEND;TZID=Europe/Berlin:20261005T223000
DTSTAMP:20260422T234153
CREATED:20251226T111631Z
LAST-MODIFIED:20251226T111631Z
UID:8253-1791235800-1791239400@www.stc-muenchen.de
SUMMARY:UW-Rugby Training
DESCRIPTION:Training von Schwimm-\, Atem und Flossentechnik und Kondition\, sowie Durchführung von Spielzügen und Spielen
URL:https://www.stc-muenchen.de/event/uw-rugby-training-39/
LOCATION:Bad Giesing-Harlaching\, Klausener Str. 22\, München\, 81547\, Germany
CATEGORIES:UW-Rugby
ATTACH;FMTTYPE=image/jpeg:https://www.stc-muenchen.de/wp-content/uploads/bg_uw-rugby-1030x579-1.jpg
ORGANIZER;CN="Heike Reichhuber":MAILTO:uwr@stc-muenchen.de
END:VEVENT
BEGIN:VEVENT
DTSTART;TZID=Europe/Berlin:20261009T200000
DTEND;TZID=Europe/Berlin:20261009T210000
DTSTAMP:20260422T234153
CREATED:20251226T105918Z
LAST-MODIFIED:20251226T105918Z
UID:8194-1791576000-1791579600@www.stc-muenchen.de
SUMMARY:Freitagstraining
DESCRIPTION:Training von Schwimm-\, Atem und Flossentechnik und Kondition sowie Durchführung von Sicherheits- und Rettungsübungen und kurzweiligen Spielen im Wechsel
URL:https://www.stc-muenchen.de/event/freitagstraining-41/
LOCATION:Olympiabad\, Olympiahalle\, Coubertinplatz 1\, München\, 80809\, Deutschland
CATEGORIES:Training
ATTACH;FMTTYPE=image/jpeg:https://www.stc-muenchen.de/wp-content/uploads/olybad2-1.jpg
ORGANIZER;CN="Armin Baiker":MAILTO:vorstand@stc-muenchen.de
END:VEVENT
BEGIN:VEVENT
DTSTART;TZID=Europe/Berlin:20261012T213000
DTEND;TZID=Europe/Berlin:20261012T223000
DTSTAMP:20260422T234153
CREATED:20251226T111633Z
LAST-MODIFIED:20251226T111633Z
UID:8254-1791840600-1791844200@www.stc-muenchen.de
SUMMARY:UW-Rugby Training
DESCRIPTION:Training von Schwimm-\, Atem und Flossentechnik und Kondition\, sowie Durchführung von Spielzügen und Spielen
URL:https://www.stc-muenchen.de/event/uw-rugby-training-40/
LOCATION:Bad Giesing-Harlaching\, Klausener Str. 22\, München\, 81547\, Germany
CATEGORIES:UW-Rugby
ATTACH;FMTTYPE=image/jpeg:https://www.stc-muenchen.de/wp-content/uploads/bg_uw-rugby-1030x579-1.jpg
ORGANIZER;CN="Heike Reichhuber":MAILTO:uwr@stc-muenchen.de
END:VEVENT
BEGIN:VEVENT
DTSTART;TZID=Europe/Berlin:20261016T200000
DTEND;TZID=Europe/Berlin:20261016T210000
DTSTAMP:20260422T234153
CREATED:20251226T105948Z
LAST-MODIFIED:20251226T105948Z
UID:8195-1792180800-1792184400@www.stc-muenchen.de
SUMMARY:Freitagstraining
DESCRIPTION:Training von Schwimm-\, Atem und Flossentechnik und Kondition sowie Durchführung von Sicherheits- und Rettungsübungen und kurzweiligen Spielen im Wechsel
URL:https://www.stc-muenchen.de/event/freitagstraining-42/
LOCATION:Olympiabad\, Olympiahalle\, Coubertinplatz 1\, München\, 80809\, Deutschland
CATEGORIES:Training
ATTACH;FMTTYPE=image/jpeg:https://www.stc-muenchen.de/wp-content/uploads/olybad2-1.jpg
ORGANIZER;CN="Armin Baiker":MAILTO:vorstand@stc-muenchen.de
END:VEVENT
BEGIN:VEVENT
DTSTART;TZID=Europe/Berlin:20261019T213000
DTEND;TZID=Europe/Berlin:20261019T223000
DTSTAMP:20260422T234153
CREATED:20251226T111636Z
LAST-MODIFIED:20251226T111636Z
UID:8255-1792445400-1792449000@www.stc-muenchen.de
SUMMARY:UW-Rugby Training
DESCRIPTION:Training von Schwimm-\, Atem und Flossentechnik und Kondition\, sowie Durchführung von Spielzügen und Spielen
URL:https://www.stc-muenchen.de/event/uw-rugby-training-41/
LOCATION:Bad Giesing-Harlaching\, Klausener Str. 22\, München\, 81547\, Germany
CATEGORIES:UW-Rugby
ATTACH;FMTTYPE=image/jpeg:https://www.stc-muenchen.de/wp-content/uploads/bg_uw-rugby-1030x579-1.jpg
ORGANIZER;CN="Heike Reichhuber":MAILTO:uwr@stc-muenchen.de
END:VEVENT
BEGIN:VEVENT
DTSTART;TZID=Europe/Berlin:20261023T200000
DTEND;TZID=Europe/Berlin:20261023T210000
DTSTAMP:20260422T234153
CREATED:20251226T105950Z
LAST-MODIFIED:20251226T105950Z
UID:8196-1792785600-1792789200@www.stc-muenchen.de
SUMMARY:Freitagstraining
DESCRIPTION:Training von Schwimm-\, Atem und Flossentechnik und Kondition sowie Durchführung von Sicherheits- und Rettungsübungen und kurzweiligen Spielen im Wechsel
URL:https://www.stc-muenchen.de/event/freitagstraining-43/
LOCATION:Olympiabad\, Olympiahalle\, Coubertinplatz 1\, München\, 80809\, Deutschland
CATEGORIES:Training
ATTACH;FMTTYPE=image/jpeg:https://www.stc-muenchen.de/wp-content/uploads/olybad2-1.jpg
ORGANIZER;CN="Armin Baiker":MAILTO:vorstand@stc-muenchen.de
END:VEVENT
BEGIN:VEVENT
DTSTART;TZID=Europe/Berlin:20261026T213000
DTEND;TZID=Europe/Berlin:20261026T223000
DTSTAMP:20260422T234153
CREATED:20251226T111638Z
LAST-MODIFIED:20251226T111638Z
UID:8256-1793050200-1793053800@www.stc-muenchen.de
SUMMARY:UW-Rugby Training
DESCRIPTION:Training von Schwimm-\, Atem und Flossentechnik und Kondition\, sowie Durchführung von Spielzügen und Spielen
URL:https://www.stc-muenchen.de/event/uw-rugby-training-42/
LOCATION:Bad Giesing-Harlaching\, Klausener Str. 22\, München\, 81547\, Germany
CATEGORIES:UW-Rugby
ATTACH;FMTTYPE=image/jpeg:https://www.stc-muenchen.de/wp-content/uploads/bg_uw-rugby-1030x579-1.jpg
ORGANIZER;CN="Heike Reichhuber":MAILTO:uwr@stc-muenchen.de
END:VEVENT
BEGIN:VEVENT
DTSTART;TZID=Europe/Berlin:20261030T200000
DTEND;TZID=Europe/Berlin:20261030T210000
DTSTAMP:20260422T234153
CREATED:20251226T105952Z
LAST-MODIFIED:20251226T105952Z
UID:8197-1793390400-1793394000@www.stc-muenchen.de
SUMMARY:Freitagstraining
DESCRIPTION:Training von Schwimm-\, Atem und Flossentechnik und Kondition sowie Durchführung von Sicherheits- und Rettungsübungen und kurzweiligen Spielen im Wechsel
URL:https://www.stc-muenchen.de/event/freitagstraining-44/
LOCATION:Olympiabad\, Olympiahalle\, Coubertinplatz 1\, München\, 80809\, Deutschland
CATEGORIES:Training
ATTACH;FMTTYPE=image/jpeg:https://www.stc-muenchen.de/wp-content/uploads/olybad2-1.jpg
ORGANIZER;CN="Armin Baiker":MAILTO:vorstand@stc-muenchen.de
END:VEVENT
BEGIN:VEVENT
DTSTART;TZID=Europe/Berlin:20261102T213000
DTEND;TZID=Europe/Berlin:20261102T223000
DTSTAMP:20260422T234153
CREATED:20251226T111639Z
LAST-MODIFIED:20251226T111639Z
UID:8257-1793655000-1793658600@www.stc-muenchen.de
SUMMARY:UW-Rugby Training
DESCRIPTION:Training von Schwimm-\, Atem und Flossentechnik und Kondition\, sowie Durchführung von Spielzügen und Spielen
URL:https://www.stc-muenchen.de/event/uw-rugby-training-43/
LOCATION:Bad Giesing-Harlaching\, Klausener Str. 22\, München\, 81547\, Germany
CATEGORIES:UW-Rugby
ATTACH;FMTTYPE=image/jpeg:https://www.stc-muenchen.de/wp-content/uploads/bg_uw-rugby-1030x579-1.jpg
ORGANIZER;CN="Heike Reichhuber":MAILTO:uwr@stc-muenchen.de
END:VEVENT
BEGIN:VEVENT
DTSTART;TZID=Europe/Berlin:20261106T200000
DTEND;TZID=Europe/Berlin:20261106T210000
DTSTAMP:20260422T234153
CREATED:20251226T105953Z
LAST-MODIFIED:20251226T105953Z
UID:8198-1793995200-1793998800@www.stc-muenchen.de
SUMMARY:Freitagstraining
DESCRIPTION:Training von Schwimm-\, Atem und Flossentechnik und Kondition sowie Durchführung von Sicherheits- und Rettungsübungen und kurzweiligen Spielen im Wechsel
URL:https://www.stc-muenchen.de/event/freitagstraining-45/
LOCATION:Olympiabad\, Olympiahalle\, Coubertinplatz 1\, München\, 80809\, Deutschland
CATEGORIES:Training
ATTACH;FMTTYPE=image/jpeg:https://www.stc-muenchen.de/wp-content/uploads/olybad2-1.jpg
ORGANIZER;CN="Armin Baiker":MAILTO:vorstand@stc-muenchen.de
END:VEVENT
BEGIN:VEVENT
DTSTART;TZID=Europe/Berlin:20261109T213000
DTEND;TZID=Europe/Berlin:20261109T223000
DTSTAMP:20260422T234153
CREATED:20251226T111641Z
LAST-MODIFIED:20251226T111641Z
UID:8258-1794259800-1794263400@www.stc-muenchen.de
SUMMARY:UW-Rugby Training
DESCRIPTION:Training von Schwimm-\, Atem und Flossentechnik und Kondition\, sowie Durchführung von Spielzügen und Spielen
URL:https://www.stc-muenchen.de/event/uw-rugby-training-44/
LOCATION:Bad Giesing-Harlaching\, Klausener Str. 22\, München\, 81547\, Germany
CATEGORIES:UW-Rugby
ATTACH;FMTTYPE=image/jpeg:https://www.stc-muenchen.de/wp-content/uploads/bg_uw-rugby-1030x579-1.jpg
ORGANIZER;CN="Heike Reichhuber":MAILTO:uwr@stc-muenchen.de
END:VEVENT
BEGIN:VEVENT
DTSTART;TZID=Europe/Berlin:20261113T200000
DTEND;TZID=Europe/Berlin:20261113T210000
DTSTAMP:20260422T234153
CREATED:20251226T105955Z
LAST-MODIFIED:20251226T105955Z
UID:8199-1794600000-1794603600@www.stc-muenchen.de
SUMMARY:Freitagstraining
DESCRIPTION:Training von Schwimm-\, Atem und Flossentechnik und Kondition sowie Durchführung von Sicherheits- und Rettungsübungen und kurzweiligen Spielen im Wechsel
URL:https://www.stc-muenchen.de/event/freitagstraining-46/
LOCATION:Olympiabad\, Olympiahalle\, Coubertinplatz 1\, München\, 80809\, Deutschland
CATEGORIES:Training
ATTACH;FMTTYPE=image/jpeg:https://www.stc-muenchen.de/wp-content/uploads/olybad2-1.jpg
ORGANIZER;CN="Armin Baiker":MAILTO:vorstand@stc-muenchen.de
END:VEVENT
BEGIN:VEVENT
DTSTART;TZID=Europe/Berlin:20261116T213000
DTEND;TZID=Europe/Berlin:20261116T223000
DTSTAMP:20260422T234153
CREATED:20251226T111642Z
LAST-MODIFIED:20251226T111642Z
UID:8259-1794864600-1794868200@www.stc-muenchen.de
SUMMARY:UW-Rugby Training
DESCRIPTION:Training von Schwimm-\, Atem und Flossentechnik und Kondition\, sowie Durchführung von Spielzügen und Spielen
URL:https://www.stc-muenchen.de/event/uw-rugby-training-45/
LOCATION:Bad Giesing-Harlaching\, Klausener Str. 22\, München\, 81547\, Germany
CATEGORIES:UW-Rugby
ATTACH;FMTTYPE=image/jpeg:https://www.stc-muenchen.de/wp-content/uploads/bg_uw-rugby-1030x579-1.jpg
ORGANIZER;CN="Heike Reichhuber":MAILTO:uwr@stc-muenchen.de
END:VEVENT
BEGIN:VEVENT
DTSTART;TZID=Europe/Berlin:20261120T200000
DTEND;TZID=Europe/Berlin:20261120T210000
DTSTAMP:20260422T234153
CREATED:20251226T110147Z
LAST-MODIFIED:20251226T110147Z
UID:8202-1795204800-1795208400@www.stc-muenchen.de
SUMMARY:Freitagstraining
DESCRIPTION:Training von Schwimm-\, Atem und Flossentechnik und Kondition sowie Durchführung von Sicherheits- und Rettungsübungen und kurzweiligen Spielen im Wechsel
URL:https://www.stc-muenchen.de/event/freitagstraining-47/
LOCATION:Olympiabad\, Olympiahalle\, Coubertinplatz 1\, München\, 80809\, Deutschland
CATEGORIES:Training
ATTACH;FMTTYPE=image/jpeg:https://www.stc-muenchen.de/wp-content/uploads/olybad2-1.jpg
ORGANIZER;CN="Armin Baiker":MAILTO:vorstand@stc-muenchen.de
END:VEVENT
BEGIN:VEVENT
DTSTART;TZID=Europe/Berlin:20261123T213000
DTEND;TZID=Europe/Berlin:20261123T223000
DTSTAMP:20260422T234153
CREATED:20251226T111655Z
LAST-MODIFIED:20251226T111655Z
UID:8260-1795469400-1795473000@www.stc-muenchen.de
SUMMARY:UW-Rugby Training
DESCRIPTION:Training von Schwimm-\, Atem und Flossentechnik und Kondition\, sowie Durchführung von Spielzügen und Spielen
URL:https://www.stc-muenchen.de/event/uw-rugby-training-46/
LOCATION:Bad Giesing-Harlaching\, Klausener Str. 22\, München\, 81547\, Germany
CATEGORIES:UW-Rugby
ATTACH;FMTTYPE=image/jpeg:https://www.stc-muenchen.de/wp-content/uploads/bg_uw-rugby-1030x579-1.jpg
ORGANIZER;CN="Heike Reichhuber":MAILTO:uwr@stc-muenchen.de
END:VEVENT
BEGIN:VEVENT
DTSTART;TZID=Europe/Berlin:20261127T200000
DTEND;TZID=Europe/Berlin:20261127T210000
DTSTAMP:20260422T234153
CREATED:20251226T110149Z
LAST-MODIFIED:20251226T110149Z
UID:8203-1795809600-1795813200@www.stc-muenchen.de
SUMMARY:Freitagstraining
DESCRIPTION:Training von Schwimm-\, Atem und Flossentechnik und Kondition sowie Durchführung von Sicherheits- und Rettungsübungen und kurzweiligen Spielen im Wechsel
URL:https://www.stc-muenchen.de/event/freitagstraining-48/
LOCATION:Olympiabad\, Olympiahalle\, Coubertinplatz 1\, München\, 80809\, Deutschland
CATEGORIES:Training
ATTACH;FMTTYPE=image/jpeg:https://www.stc-muenchen.de/wp-content/uploads/olybad2-1.jpg
ORGANIZER;CN="Armin Baiker":MAILTO:vorstand@stc-muenchen.de
END:VEVENT
BEGIN:VEVENT
DTSTART;TZID=Europe/Berlin:20261130T213000
DTEND;TZID=Europe/Berlin:20261130T223000
DTSTAMP:20260422T234153
CREATED:20251226T111657Z
LAST-MODIFIED:20251226T111657Z
UID:8261-1796074200-1796077800@www.stc-muenchen.de
SUMMARY:UW-Rugby Training
DESCRIPTION:Training von Schwimm-\, Atem und Flossentechnik und Kondition\, sowie Durchführung von Spielzügen und Spielen
URL:https://www.stc-muenchen.de/event/uw-rugby-training-47/
LOCATION:Bad Giesing-Harlaching\, Klausener Str. 22\, München\, 81547\, Germany
CATEGORIES:UW-Rugby
ATTACH;FMTTYPE=image/jpeg:https://www.stc-muenchen.de/wp-content/uploads/bg_uw-rugby-1030x579-1.jpg
ORGANIZER;CN="Heike Reichhuber":MAILTO:uwr@stc-muenchen.de
END:VEVENT
BEGIN:VEVENT
DTSTART;TZID=Europe/Berlin:20261204T200000
DTEND;TZID=Europe/Berlin:20261204T210000
DTSTAMP:20260422T234153
CREATED:20251226T110151Z
LAST-MODIFIED:20251226T110151Z
UID:8204-1796414400-1796418000@www.stc-muenchen.de
SUMMARY:Freitagstraining
DESCRIPTION:Training von Schwimm-\, Atem und Flossentechnik und Kondition sowie Durchführung von Sicherheits- und Rettungsübungen und kurzweiligen Spielen im Wechsel
URL:https://www.stc-muenchen.de/event/freitagstraining-49/
LOCATION:Olympiabad\, Olympiahalle\, Coubertinplatz 1\, München\, 80809\, Deutschland
CATEGORIES:Training
ATTACH;FMTTYPE=image/jpeg:https://www.stc-muenchen.de/wp-content/uploads/olybad2-1.jpg
ORGANIZER;CN="Armin Baiker":MAILTO:vorstand@stc-muenchen.de
END:VEVENT
BEGIN:VEVENT
DTSTART;TZID=Europe/Berlin:20261207T213000
DTEND;TZID=Europe/Berlin:20261207T223000
DTSTAMP:20260422T234153
CREATED:20251226T111658Z
LAST-MODIFIED:20251226T111658Z
UID:8262-1796679000-1796682600@www.stc-muenchen.de
SUMMARY:UW-Rugby Training
DESCRIPTION:Training von Schwimm-\, Atem und Flossentechnik und Kondition\, sowie Durchführung von Spielzügen und Spielen
URL:https://www.stc-muenchen.de/event/uw-rugby-training-48/
LOCATION:Bad Giesing-Harlaching\, Klausener Str. 22\, München\, 81547\, Germany
CATEGORIES:UW-Rugby
ATTACH;FMTTYPE=image/jpeg:https://www.stc-muenchen.de/wp-content/uploads/bg_uw-rugby-1030x579-1.jpg
ORGANIZER;CN="Heike Reichhuber":MAILTO:uwr@stc-muenchen.de
END:VEVENT
BEGIN:VEVENT
DTSTART;TZID=Europe/Berlin:20261211T200000
DTEND;TZID=Europe/Berlin:20261211T210000
DTSTAMP:20260422T234153
CREATED:20251226T110152Z
LAST-MODIFIED:20251226T110152Z
UID:8205-1797019200-1797022800@www.stc-muenchen.de
SUMMARY:Freitagstraining
DESCRIPTION:Nikolaustraining
URL:https://www.stc-muenchen.de/event/freitagstraining-147/
LOCATION:Olympiabad\, Olympiahalle\, Coubertinplatz 1\, München\, 80809\, Deutschland
CATEGORIES:Training
ATTACH;FMTTYPE=image/jpeg:https://www.stc-muenchen.de/wp-content/uploads/olybad2-1.jpg
ORGANIZER;CN="Armin Baiker":MAILTO:vorstand@stc-muenchen.de
END:VEVENT
BEGIN:VEVENT
DTSTART;TZID=Europe/Berlin:20261214T213000
DTEND;TZID=Europe/Berlin:20261214T223000
DTSTAMP:20260422T234153
CREATED:20251226T111700Z
LAST-MODIFIED:20251226T111700Z
UID:8263-1797283800-1797287400@www.stc-muenchen.de
SUMMARY:UW-Rugby Training
DESCRIPTION:Training von Schwimm-\, Atem und Flossentechnik und Kondition\, sowie Durchführung von Spielzügen und Spielen
URL:https://www.stc-muenchen.de/event/uw-rugby-training-96/
LOCATION:Bad Giesing-Harlaching\, Klausener Str. 22\, München\, 81547\, Germany
CATEGORIES:UW-Rugby
ATTACH;FMTTYPE=image/jpeg:https://www.stc-muenchen.de/wp-content/uploads/bg_uw-rugby-1030x579-1.jpg
ORGANIZER;CN="Heike Reichhuber":MAILTO:uwr@stc-muenchen.de
END:VEVENT
BEGIN:VEVENT
DTSTART;TZID=Europe/Berlin:20261218T200000
DTEND;TZID=Europe/Berlin:20261218T210000
DTSTAMP:20260422T234153
CREATED:20251226T110154Z
LAST-MODIFIED:20251226T110154Z
UID:8206-1797624000-1797627600@www.stc-muenchen.de
SUMMARY:Freitagstraining
DESCRIPTION:Training von Schwimm-\, Atem und Flossentechnik und Kondition sowie Durchführung von Sicherheits- und Rettungsübungen und kurzweiligen Spielen im Wechsel
URL:https://www.stc-muenchen.de/event/freitagstraining-148/
LOCATION:Olympiabad\, Olympiahalle\, Coubertinplatz 1\, München\, 80809\, Deutschland
CATEGORIES:Training
ATTACH;FMTTYPE=image/jpeg:https://www.stc-muenchen.de/wp-content/uploads/olybad2-1.jpg
ORGANIZER;CN="Armin Baiker":MAILTO:vorstand@stc-muenchen.de
END:VEVENT
BEGIN:VEVENT
DTSTART;TZID=Europe/Berlin:20261221T213000
DTEND;TZID=Europe/Berlin:20261221T223000
DTSTAMP:20260422T234153
CREATED:20251226T111701Z
LAST-MODIFIED:20251226T111701Z
UID:8264-1797888600-1797892200@www.stc-muenchen.de
SUMMARY:UW-Rugby Training
DESCRIPTION:Training von Schwimm-\, Atem und Flossentechnik und Kondition\, sowie Durchführung von Spielzügen und Spielen
URL:https://www.stc-muenchen.de/event/uw-rugby-training-97/
LOCATION:Bad Giesing-Harlaching\, Klausener Str. 22\, München\, 81547\, Germany
CATEGORIES:UW-Rugby
ATTACH;FMTTYPE=image/jpeg:https://www.stc-muenchen.de/wp-content/uploads/bg_uw-rugby-1030x579-1.jpg
ORGANIZER;CN="Heike Reichhuber":MAILTO:uwr@stc-muenchen.de
END:VEVENT
BEGIN:VEVENT
DTSTART;TZID=Europe/Berlin:20261224T100000
DTEND;TZID=Europe/Berlin:20261224T170000
DTSTAMP:20260422T234153
CREATED:20251226T111713Z
LAST-MODIFIED:20251226T111713Z
UID:8267-1798106400-1798131600@www.stc-muenchen.de
SUMMARY:Tauchausflug
DESCRIPTION:Weihnachtstauchen
URL:https://www.stc-muenchen.de/event/tauchausflug-2/
LOCATION:Starnberger See\, Starnberg\, Deutschland
CATEGORIES:Event,Tauchausflug
ORGANIZER;CN="Manfred Hoffmann":MAILTO:events@stc-muenchen.de
END:VEVENT
BEGIN:VEVENT
DTSTART;TZID=Europe/Berlin:20261228T213000
DTEND;TZID=Europe/Berlin:20261228T223000
DTSTAMP:20260422T234153
CREATED:20251226T111711Z
LAST-MODIFIED:20251226T111711Z
UID:8265-1798493400-1798497000@www.stc-muenchen.de
SUMMARY:UW-Rugby Training
DESCRIPTION:Training von Schwimm-\, Atem und Flossentechnik und Kondition\, sowie Durchführung von Spielzügen und Spielen
URL:https://www.stc-muenchen.de/event/uw-rugby-training-98/
LOCATION:Bad Giesing-Harlaching\, Klausener Str. 22\, München\, 81547\, Germany
CATEGORIES:UW-Rugby
ATTACH;FMTTYPE=image/jpeg:https://www.stc-muenchen.de/wp-content/uploads/bg_uw-rugby-1030x579-1.jpg
ORGANIZER;CN="Heike Reichhuber":MAILTO:uwr@stc-muenchen.de
END:VEVENT
END:VCALENDAR