BEGIN:VCALENDAR
VERSION:2.0
PRODID:-//Süddeutscher Tauchclub - ECPv6.15.20//NONSGML v1.0//EN
CALSCALE:GREGORIAN
METHOD:PUBLISH
X-ORIGINAL-URL:https://www.stc-muenchen.de
X-WR-CALDESC:Veranstaltungen für Süddeutscher Tauchclub
REFRESH-INTERVAL;VALUE=DURATION:PT1H
X-Robots-Tag:noindex
X-PUBLISHED-TTL:PT1H
BEGIN:VTIMEZONE
TZID:Europe/Berlin
BEGIN:DAYLIGHT
TZOFFSETFROM:+0100
TZOFFSETTO:+0200
TZNAME:CEST
DTSTART:20250330T010000
END:DAYLIGHT
BEGIN:STANDARD
TZOFFSETFROM:+0200
TZOFFSETTO:+0100
TZNAME:CET
DTSTART:20251026T010000
END:STANDARD
BEGIN:DAYLIGHT
TZOFFSETFROM:+0100
TZOFFSETTO:+0200
TZNAME:CEST
DTSTART:20260329T010000
END:DAYLIGHT
BEGIN:STANDARD
TZOFFSETFROM:+0200
TZOFFSETTO:+0100
TZNAME:CET
DTSTART:20261025T010000
END:STANDARD
BEGIN:DAYLIGHT
TZOFFSETFROM:+0100
TZOFFSETTO:+0200
TZNAME:CEST
DTSTART:20270328T010000
END:DAYLIGHT
BEGIN:STANDARD
TZOFFSETFROM:+0200
TZOFFSETTO:+0100
TZNAME:CET
DTSTART:20271031T010000
END:STANDARD
END:VTIMEZONE
BEGIN:VEVENT
DTSTART;TZID=Europe/Berlin:20260102T200000
DTEND;TZID=Europe/Berlin:20260102T210000
DTSTAMP:20260422T231404
CREATED:20251226T105631Z
LAST-MODIFIED:20251226T105631Z
UID:8155-1767384000-1767387600@www.stc-muenchen.de
SUMMARY:Freitagstraining
DESCRIPTION:Training von Schwimm-\, Atem und Flossentechnik und Kondition sowie Durchführung von Sicherheits- und Rettungsübungen und kurzweiligen Spielen im Wechsel
URL:https://www.stc-muenchen.de/event/freitagstraining/
LOCATION:Olympiabad\, Olympiahalle\, Coubertinplatz 1\, München\, 80809\, Deutschland
CATEGORIES:Training
ATTACH;FMTTYPE=image/jpeg:https://www.stc-muenchen.de/wp-content/uploads/olybad2-1.jpg
ORGANIZER;CN="Armin Baiker":MAILTO:vorstand@stc-muenchen.de
END:VEVENT
BEGIN:VEVENT
DTSTART;TZID=Europe/Berlin:20260105T213000
DTEND;TZID=Europe/Berlin:20260105T223000
DTSTAMP:20260422T231404
CREATED:20251226T110347Z
LAST-MODIFIED:20251226T110347Z
UID:8207-1767648600-1767652200@www.stc-muenchen.de
SUMMARY:UW-Rugby Training
DESCRIPTION:Training von Schwimm-\, Atem und Flossentechnik und Kondition\, sowie Durchführung von Spielzügen und Spielen
URL:https://www.stc-muenchen.de/event/uw-rugby-training/
LOCATION:Bad Giesing-Harlaching\, Klausener Str. 22\, München\, 81547\, Germany
CATEGORIES:UW-Rugby
ATTACH;FMTTYPE=image/jpeg:https://www.stc-muenchen.de/wp-content/uploads/bg_uw-rugby-1030x579-1.jpg
ORGANIZER;CN="Heike Reichhuber":MAILTO:uwr@stc-muenchen.de
END:VEVENT
BEGIN:VEVENT
DTSTART;TZID=Europe/Berlin:20260106T100000
DTEND;TZID=Europe/Berlin:20260106T150000
DTSTAMP:20260422T231404
CREATED:20251226T112625Z
LAST-MODIFIED:20251226T112626Z
UID:8268-1767693600-1767711600@www.stc-muenchen.de
SUMMARY:Dreikönigstauchen
DESCRIPTION:
URL:https://www.stc-muenchen.de/event/dreikoenigstauchen-2/
LOCATION:Chiemsee Strandbad Breitbrunn\, Königstr. 46a\, Breitbrunn am Chiemsee\, 83254\, Deutschland
CATEGORIES:Event,Tauchausflug
ATTACH;FMTTYPE=image/png:https://www.stc-muenchen.de/wp-content/uploads/clubtauchen-2.png
ORGANIZER;CN="Manfred Hoffmann":MAILTO:events@stc-muenchen.de
END:VEVENT
BEGIN:VEVENT
DTSTART;TZID=Europe/Berlin:20260109T200000
DTEND;TZID=Europe/Berlin:20260109T210000
DTSTAMP:20260422T231404
CREATED:20251226T105635Z
LAST-MODIFIED:20251226T105635Z
UID:8156-1767988800-1767992400@www.stc-muenchen.de
SUMMARY:Freitagstraining
DESCRIPTION:Training von Schwimm-\, Atem und Flossentechnik und Kondition sowie Durchführung von Sicherheits- und Rettungsübungen und kurzweiligen Spielen im Wechsel
URL:https://www.stc-muenchen.de/event/freitagstraining-2/
LOCATION:Olympiabad\, Olympiahalle\, Coubertinplatz 1\, München\, 80809\, Deutschland
CATEGORIES:Training
ATTACH;FMTTYPE=image/jpeg:https://www.stc-muenchen.de/wp-content/uploads/olybad2-1.jpg
ORGANIZER;CN="Armin Baiker":MAILTO:vorstand@stc-muenchen.de
END:VEVENT
BEGIN:VEVENT
DTSTART;TZID=Europe/Berlin:20260112T213000
DTEND;TZID=Europe/Berlin:20260112T223000
DTSTAMP:20260422T231404
CREATED:20251226T110349Z
LAST-MODIFIED:20251226T110349Z
UID:8208-1768253400-1768257000@www.stc-muenchen.de
SUMMARY:UW-Rugby Training
DESCRIPTION:Training von Schwimm-\, Atem und Flossentechnik und Kondition\, sowie Durchführung von Spielzügen und Spielen
URL:https://www.stc-muenchen.de/event/uw-rugby-training-2/
LOCATION:Bad Giesing-Harlaching\, Klausener Str. 22\, München\, 81547\, Germany
CATEGORIES:UW-Rugby
ATTACH;FMTTYPE=image/jpeg:https://www.stc-muenchen.de/wp-content/uploads/bg_uw-rugby-1030x579-1.jpg
ORGANIZER;CN="Heike Reichhuber":MAILTO:uwr@stc-muenchen.de
END:VEVENT
BEGIN:VEVENT
DTSTART;TZID=Europe/Berlin:20260116T200000
DTEND;TZID=Europe/Berlin:20260116T210000
DTSTAMP:20260422T231404
CREATED:20251226T105637Z
LAST-MODIFIED:20251226T105637Z
UID:8157-1768593600-1768597200@www.stc-muenchen.de
SUMMARY:Freitagstraining
DESCRIPTION:Training von Schwimm-\, Atem und Flossentechnik und Kondition sowie Durchführung von Sicherheits- und Rettungsübungen und kurzweiligen Spielen im Wechsel
URL:https://www.stc-muenchen.de/event/freitagstraining-3/
LOCATION:Olympiabad\, Olympiahalle\, Coubertinplatz 1\, München\, 80809\, Deutschland
CATEGORIES:Training
ATTACH;FMTTYPE=image/jpeg:https://www.stc-muenchen.de/wp-content/uploads/olybad2-1.jpg
ORGANIZER;CN="Armin Baiker":MAILTO:vorstand@stc-muenchen.de
END:VEVENT
BEGIN:VEVENT
DTSTART;TZID=Europe/Berlin:20260119T213000
DTEND;TZID=Europe/Berlin:20260119T223000
DTSTAMP:20260422T231404
CREATED:20251226T110350Z
LAST-MODIFIED:20251226T110350Z
UID:8209-1768858200-1768861800@www.stc-muenchen.de
SUMMARY:UW-Rugby Training
DESCRIPTION:Training von Schwimm-\, Atem und Flossentechnik und Kondition\, sowie Durchführung von Spielzügen und Spielen
URL:https://www.stc-muenchen.de/event/uw-rugby-training-3/
LOCATION:Bad Giesing-Harlaching\, Klausener Str. 22\, München\, 81547\, Germany
CATEGORIES:UW-Rugby
ATTACH;FMTTYPE=image/jpeg:https://www.stc-muenchen.de/wp-content/uploads/bg_uw-rugby-1030x579-1.jpg
ORGANIZER;CN="Heike Reichhuber":MAILTO:uwr@stc-muenchen.de
END:VEVENT
BEGIN:VEVENT
DTSTART;TZID=Europe/Berlin:20260123T200000
DTEND;TZID=Europe/Berlin:20260123T210000
DTSTAMP:20260422T231404
CREATED:20251226T105639Z
LAST-MODIFIED:20251226T105639Z
UID:8158-1769198400-1769202000@www.stc-muenchen.de
SUMMARY:Freitagstraining
DESCRIPTION:Training von Schwimm-\, Atem und Flossentechnik und Kondition sowie Durchführung von Sicherheits- und Rettungsübungen und kurzweiligen Spielen im Wechsel
URL:https://www.stc-muenchen.de/event/freitagstraining-4/
LOCATION:Olympiabad\, Olympiahalle\, Coubertinplatz 1\, München\, 80809\, Deutschland
CATEGORIES:Training
ATTACH;FMTTYPE=image/jpeg:https://www.stc-muenchen.de/wp-content/uploads/olybad2-1.jpg
ORGANIZER;CN="Armin Baiker":MAILTO:vorstand@stc-muenchen.de
END:VEVENT
BEGIN:VEVENT
DTSTART;TZID=Europe/Berlin:20260126T213000
DTEND;TZID=Europe/Berlin:20260126T223000
DTSTAMP:20260422T231404
CREATED:20251226T110352Z
LAST-MODIFIED:20251226T110352Z
UID:8210-1769463000-1769466600@www.stc-muenchen.de
SUMMARY:UW-Rugby Training
DESCRIPTION:Training von Schwimm-\, Atem und Flossentechnik und Kondition\, sowie Durchführung von Spielzügen und Spielen
URL:https://www.stc-muenchen.de/event/uw-rugby-training-4/
LOCATION:Bad Giesing-Harlaching\, Klausener Str. 22\, München\, 81547\, Germany
CATEGORIES:UW-Rugby
ATTACH;FMTTYPE=image/jpeg:https://www.stc-muenchen.de/wp-content/uploads/bg_uw-rugby-1030x579-1.jpg
ORGANIZER;CN="Heike Reichhuber":MAILTO:uwr@stc-muenchen.de
END:VEVENT
BEGIN:VEVENT
DTSTART;TZID=Europe/Berlin:20260130T200000
DTEND;TZID=Europe/Berlin:20260130T210000
DTSTAMP:20260422T231404
CREATED:20251226T105641Z
LAST-MODIFIED:20251226T105641Z
UID:8159-1769803200-1769806800@www.stc-muenchen.de
SUMMARY:Freitagstraining
DESCRIPTION:Faschingstraining
URL:https://www.stc-muenchen.de/event/freitagstraining-5/
LOCATION:Olympiabad\, Olympiahalle\, Coubertinplatz 1\, München\, 80809\, Deutschland
CATEGORIES:Training
ATTACH;FMTTYPE=image/jpeg:https://www.stc-muenchen.de/wp-content/uploads/olybad2-1.jpg
ORGANIZER;CN="Armin Baiker":MAILTO:vorstand@stc-muenchen.de
END:VEVENT
END:VCALENDAR