BEGIN:VCALENDAR
VERSION:2.0
PRODID:-//Süddeutscher Tauchclub - ECPv6.15.20//NONSGML v1.0//EN
CALSCALE:GREGORIAN
METHOD:PUBLISH
X-WR-CALNAME:Süddeutscher Tauchclub
X-ORIGINAL-URL:https://www.stc-muenchen.de
X-WR-CALDESC:Veranstaltungen für Süddeutscher Tauchclub
REFRESH-INTERVAL;VALUE=DURATION:PT1H
X-Robots-Tag:noindex
X-PUBLISHED-TTL:PT1H
BEGIN:VTIMEZONE
TZID:Europe/Berlin
BEGIN:DAYLIGHT
TZOFFSETFROM:+0100
TZOFFSETTO:+0200
TZNAME:CEST
DTSTART:20250330T010000
END:DAYLIGHT
BEGIN:STANDARD
TZOFFSETFROM:+0200
TZOFFSETTO:+0100
TZNAME:CET
DTSTART:20251026T010000
END:STANDARD
BEGIN:DAYLIGHT
TZOFFSETFROM:+0100
TZOFFSETTO:+0200
TZNAME:CEST
DTSTART:20260329T010000
END:DAYLIGHT
BEGIN:STANDARD
TZOFFSETFROM:+0200
TZOFFSETTO:+0100
TZNAME:CET
DTSTART:20261025T010000
END:STANDARD
BEGIN:DAYLIGHT
TZOFFSETFROM:+0100
TZOFFSETTO:+0200
TZNAME:CEST
DTSTART:20270328T010000
END:DAYLIGHT
BEGIN:STANDARD
TZOFFSETFROM:+0200
TZOFFSETTO:+0100
TZNAME:CET
DTSTART:20271031T010000
END:STANDARD
END:VTIMEZONE
BEGIN:VEVENT
DTSTART;TZID=Europe/Berlin:20260601T213000
DTEND;TZID=Europe/Berlin:20260601T223000
DTSTAMP:20260422T214858
CREATED:20251226T111516Z
LAST-MODIFIED:20251226T111516Z
UID:8229-1780349400-1780353000@www.stc-muenchen.de
SUMMARY:UW-Rugby Training
DESCRIPTION:Training von Schwimm-\, Atem und Flossentechnik und Kondition\, sowie Durchführung von Spielzügen und Spielen
URL:https://www.stc-muenchen.de/event/uw-rugby-training-21/
LOCATION:Bad Giesing-Harlaching\, Klausener Str. 22\, München\, 81547\, Germany
CATEGORIES:UW-Rugby
ATTACH;FMTTYPE=image/jpeg:https://www.stc-muenchen.de/wp-content/uploads/bg_uw-rugby-1030x579-1.jpg
ORGANIZER;CN="Heike Reichhuber":MAILTO:uwr@stc-muenchen.de
END:VEVENT
BEGIN:VEVENT
DTSTART;TZID=Europe/Berlin:20260605T200000
DTEND;TZID=Europe/Berlin:20260605T210000
DTSTAMP:20260422T214858
CREATED:20251226T105734Z
LAST-MODIFIED:20251226T105734Z
UID:8176-1780689600-1780693200@www.stc-muenchen.de
SUMMARY:Freitagstraining
DESCRIPTION:Training von Schwimm-\, Atem und Flossentechnik und Kondition sowie Durchführung von Sicherheits- und Rettungsübungen und kurzweiligen Spielen im Wechsel
URL:https://www.stc-muenchen.de/event/freitagstraining-23/
LOCATION:Olympiabad\, Olympiahalle\, Coubertinplatz 1\, München\, 80809\, Deutschland
CATEGORIES:Training
ATTACH;FMTTYPE=image/jpeg:https://www.stc-muenchen.de/wp-content/uploads/olybad2-1.jpg
ORGANIZER;CN="Armin Baiker":MAILTO:vorstand@stc-muenchen.de
END:VEVENT
BEGIN:VEVENT
DTSTART;TZID=Europe/Berlin:20260608T213000
DTEND;TZID=Europe/Berlin:20260608T223000
DTSTAMP:20260422T214858
CREATED:20251226T111518Z
LAST-MODIFIED:20251226T111518Z
UID:8230-1780954200-1780957800@www.stc-muenchen.de
SUMMARY:UW-Rugby Training
DESCRIPTION:Training von Schwimm-\, Atem und Flossentechnik und Kondition\, sowie Durchführung von Spielzügen und Spielen
URL:https://www.stc-muenchen.de/event/uw-rugby-training-22/
LOCATION:Bad Giesing-Harlaching\, Klausener Str. 22\, München\, 81547\, Germany
CATEGORIES:UW-Rugby
ATTACH;FMTTYPE=image/jpeg:https://www.stc-muenchen.de/wp-content/uploads/bg_uw-rugby-1030x579-1.jpg
ORGANIZER;CN="Heike Reichhuber":MAILTO:uwr@stc-muenchen.de
END:VEVENT
BEGIN:VEVENT
DTSTART;TZID=Europe/Berlin:20260612T200000
DTEND;TZID=Europe/Berlin:20260612T210000
DTSTAMP:20260422T214858
CREATED:20251226T105736Z
LAST-MODIFIED:20251226T105736Z
UID:8177-1781294400-1781298000@www.stc-muenchen.de
SUMMARY:Freitagstraining
DESCRIPTION:Training von Schwimm-\, Atem und Flossentechnik und Kondition sowie Durchführung von Sicherheits- und Rettungsübungen und kurzweiligen Spielen im Wechsel
URL:https://www.stc-muenchen.de/event/freitagstraining-24/
LOCATION:Olympiabad\, Olympiahalle\, Coubertinplatz 1\, München\, 80809\, Deutschland
CATEGORIES:Training
ATTACH;FMTTYPE=image/jpeg:https://www.stc-muenchen.de/wp-content/uploads/olybad2-1.jpg
ORGANIZER;CN="Armin Baiker":MAILTO:vorstand@stc-muenchen.de
END:VEVENT
BEGIN:VEVENT
DTSTART;TZID=Europe/Berlin:20260615T213000
DTEND;TZID=Europe/Berlin:20260615T223000
DTSTAMP:20260422T214858
CREATED:20251226T111519Z
LAST-MODIFIED:20251226T111519Z
UID:8231-1781559000-1781562600@www.stc-muenchen.de
SUMMARY:UW-Rugby Training
DESCRIPTION:Training von Schwimm-\, Atem und Flossentechnik und Kondition\, sowie Durchführung von Spielzügen und Spielen
URL:https://www.stc-muenchen.de/event/uw-rugby-training-23/
LOCATION:Bad Giesing-Harlaching\, Klausener Str. 22\, München\, 81547\, Germany
CATEGORIES:UW-Rugby
ATTACH;FMTTYPE=image/jpeg:https://www.stc-muenchen.de/wp-content/uploads/bg_uw-rugby-1030x579-1.jpg
ORGANIZER;CN="Heike Reichhuber":MAILTO:uwr@stc-muenchen.de
END:VEVENT
BEGIN:VEVENT
DTSTART;TZID=Europe/Berlin:20260619T200000
DTEND;TZID=Europe/Berlin:20260619T210000
DTSTAMP:20260422T214858
CREATED:20251226T105738Z
LAST-MODIFIED:20251226T105738Z
UID:8178-1781899200-1781902800@www.stc-muenchen.de
SUMMARY:Freitagstraining
DESCRIPTION:Training von Schwimm-\, Atem und Flossentechnik und Kondition sowie Durchführung von Sicherheits- und Rettungsübungen und kurzweiligen Spielen im Wechsel
URL:https://www.stc-muenchen.de/event/freitagstraining-25/
LOCATION:Olympiabad\, Olympiahalle\, Coubertinplatz 1\, München\, 80809\, Deutschland
CATEGORIES:Training
ATTACH;FMTTYPE=image/jpeg:https://www.stc-muenchen.de/wp-content/uploads/olybad2-1.jpg
ORGANIZER;CN="Armin Baiker":MAILTO:vorstand@stc-muenchen.de
END:VEVENT
BEGIN:VEVENT
DTSTART;TZID=Europe/Berlin:20260622T213000
DTEND;TZID=Europe/Berlin:20260622T223000
DTSTAMP:20260422T214858
CREATED:20251226T111521Z
LAST-MODIFIED:20251226T111521Z
UID:8232-1782163800-1782167400@www.stc-muenchen.de
SUMMARY:UW-Rugby Training
DESCRIPTION:Training von Schwimm-\, Atem und Flossentechnik und Kondition\, sowie Durchführung von Spielzügen und Spielen
URL:https://www.stc-muenchen.de/event/uw-rugby-training-24/
LOCATION:Bad Giesing-Harlaching\, Klausener Str. 22\, München\, 81547\, Germany
CATEGORIES:UW-Rugby
ATTACH;FMTTYPE=image/jpeg:https://www.stc-muenchen.de/wp-content/uploads/bg_uw-rugby-1030x579-1.jpg
ORGANIZER;CN="Heike Reichhuber":MAILTO:uwr@stc-muenchen.de
END:VEVENT
BEGIN:VEVENT
DTSTART;TZID=Europe/Berlin:20260626T200000
DTEND;TZID=Europe/Berlin:20260626T210000
DTSTAMP:20260422T214858
CREATED:20251226T105740Z
LAST-MODIFIED:20251226T105740Z
UID:8179-1782504000-1782507600@www.stc-muenchen.de
SUMMARY:Freitagstraining
DESCRIPTION:Training von Schwimm-\, Atem und Flossentechnik und Kondition sowie Durchführung von Sicherheits- und Rettungsübungen und kurzweiligen Spielen im Wechsel
URL:https://www.stc-muenchen.de/event/freitagstraining-26/
LOCATION:Olympiabad\, Olympiahalle\, Coubertinplatz 1\, München\, 80809\, Deutschland
CATEGORIES:Training
ATTACH;FMTTYPE=image/jpeg:https://www.stc-muenchen.de/wp-content/uploads/olybad2-1.jpg
ORGANIZER;CN="Armin Baiker":MAILTO:vorstand@stc-muenchen.de
END:VEVENT
BEGIN:VEVENT
DTSTART;TZID=Europe/Berlin:20260629T213000
DTEND;TZID=Europe/Berlin:20260629T223000
DTSTAMP:20260422T214858
CREATED:20251226T111522Z
LAST-MODIFIED:20251226T111522Z
UID:8233-1782768600-1782772200@www.stc-muenchen.de
SUMMARY:UW-Rugby Training
DESCRIPTION:Training von Schwimm-\, Atem und Flossentechnik und Kondition\, sowie Durchführung von Spielzügen und Spielen
URL:https://www.stc-muenchen.de/event/uw-rugby-training-25/
LOCATION:Bad Giesing-Harlaching\, Klausener Str. 22\, München\, 81547\, Germany
CATEGORIES:UW-Rugby
ATTACH;FMTTYPE=image/jpeg:https://www.stc-muenchen.de/wp-content/uploads/bg_uw-rugby-1030x579-1.jpg
ORGANIZER;CN="Heike Reichhuber":MAILTO:uwr@stc-muenchen.de
END:VEVENT
END:VCALENDAR